BEGIN:VCALENDAR
VERSION:2.0
PRODID:-//Paradigm Technology Consulting - ECPv6.15.11//NONSGML v1.0//EN
CALSCALE:GREGORIAN
METHOD:PUBLISH
X-ORIGINAL-URL:https://paradigmtechnologyconsulting.com
X-WR-CALDESC:Events for Paradigm Technology Consulting
REFRESH-INTERVAL;VALUE=DURATION:PT1H
X-Robots-Tag:noindex
X-PUBLISHED-TTL:PT1H
BEGIN:VTIMEZONE
TZID:America/New_York
BEGIN:DAYLIGHT
TZOFFSETFROM:-0500
TZOFFSETTO:-0400
TZNAME:EDT
DTSTART:20240310T070000
END:DAYLIGHT
BEGIN:STANDARD
TZOFFSETFROM:-0400
TZOFFSETTO:-0500
TZNAME:EST
DTSTART:20241103T060000
END:STANDARD
BEGIN:DAYLIGHT
TZOFFSETFROM:-0500
TZOFFSETTO:-0400
TZNAME:EDT
DTSTART:20250309T070000
END:DAYLIGHT
BEGIN:STANDARD
TZOFFSETFROM:-0400
TZOFFSETTO:-0500
TZNAME:EST
DTSTART:20251102T060000
END:STANDARD
BEGIN:DAYLIGHT
TZOFFSETFROM:-0500
TZOFFSETTO:-0400
TZNAME:EDT
DTSTART:20260308T070000
END:DAYLIGHT
BEGIN:STANDARD
TZOFFSETFROM:-0400
TZOFFSETTO:-0500
TZNAME:EST
DTSTART:20261101T060000
END:STANDARD
BEGIN:DAYLIGHT
TZOFFSETFROM:-0500
TZOFFSETTO:-0400
TZNAME:EDT
DTSTART:20270314T070000
END:DAYLIGHT
BEGIN:STANDARD
TZOFFSETFROM:-0400
TZOFFSETTO:-0500
TZNAME:EST
DTSTART:20271107T060000
END:STANDARD
END:VTIMEZONE
BEGIN:VEVENT
DTSTART;VALUE=DATE:20251019
DTEND;VALUE=DATE:20251024
DTSTAMP:20260423T070435
CREATED:20250520T183329Z
LAST-MODIFIED:20250520T183329Z
UID:2671-1760832000-1761263999@paradigmtechnologyconsulting.com
SUMMARY:Community Summit North America
DESCRIPTION:Event Announcement: PTC’s Michael Gummel to Speak at 2025 Community Summit North America \nPTC is proud to announce that Michael Gummel will be a featured speaker at the 2025 Community Summit North America\, taking place October 19–23 in Orlando\, Florida. \nMichael will be sharing his expertise across multiple tracks throughout the week\, including: \nDynamics GP Ask Us Anything – GL/AR/APPanel SessionBring your toughest questions to this open-format panel discussion featuring seasoned GP experts ready to tackle real-world challenges. \nDynamics GP Navigation List vs Smart ListsDiscover the strengths and differences between these two powerful tools and learn when to use each for optimal efficiency. \nBC Sales – Let Us Count the WaysExplore the diverse and powerful sales capabilities within Business Central and how they can support your organization’s growth. \nAP Automation – What Are the Benefits?Get insight into the measurable value and real-world benefits of automating your accounts payable process. \nWhether you’re a seasoned ERP professional or just beginning your journey\, don’t miss these engaging and practical sessions led by one of PTC’s top experts. \nJoin us in Orlando for a week of learning\, networking\, and innovation.We look forward to seeing you there! \n#CommunitySummitNA #DynamicsGP #BusinessCentral #PTC #ERP #MichaelGummel #APAutomation #BCSales #GPAskUsAnything
URL:https://paradigmtechnologyconsulting.com/event/community-summit-north-america/
LOCATION:Gaylord Palms Resort & Convention Center\, Orlando\, FL
CATEGORIES:In-Person
ATTACH;FMTTYPE=image/jpeg:https://paradigmtechnologyconsulting.com/wp-content/uploads/2025/05/CommunitySummit_2025Orlando.jpg
END:VEVENT
BEGIN:VEVENT
DTSTART;TZID=America/New_York:20251104T080000
DTEND;TZID=America/New_York:20251106T170000
DTSTAMP:20260423T070435
CREATED:20250918T142622Z
LAST-MODIFIED:20250918T142622Z
UID:2787-1762243200-1762448400@paradigmtechnologyconsulting.com
SUMMARY:NJDVHIMSS 2025 Fall Conference
DESCRIPTION:Visit Us at the NJDVHIMSS Fall ConferenceJoin us November 4–6 at the Hard Rock Resort in Atlantic City for the NJDVHIMSS Fall Conference\, a premier gathering for health information and technology professionals. This leading event brings together experts and innovators from across the healthcare landscape to share insights\, spark new ideas\, and shape the future of healthcare technology. \nStop by our booth to connect with our team\, explore our solutions\, and discover how we’re helping healthcare organizations improve outcomes\, optimize efficiency\, and drive innovation.
URL:https://paradigmtechnologyconsulting.com/event/njdvhimss-2025-fall-conference/
LOCATION:Hard Rock Resort\, Atlantic City\, 1000 Boardwalk\, Atlantic City\, NJ\, 08401\, United States
CATEGORIES:In-Person
ATTACH;FMTTYPE=image/jpeg:https://paradigmtechnologyconsulting.com/wp-content/uploads/2025/09/HIMSS-Fall-Conference-2025.jpg
END:VEVENT
BEGIN:VEVENT
DTSTART;TZID=America/New_York:20251113T080000
DTEND;TZID=America/New_York:20251113T170000
DTSTAMP:20260423T070435
CREATED:20251105T132307Z
LAST-MODIFIED:20251105T132335Z
UID:2836-1763020800-1763053200@paradigmtechnologyconsulting.com
SUMMARY:Dynamics Communities – National User Group Meeting for Microsoft Dynamics 365 Business Central (BC / NAV)
DESCRIPTION:Join us for this insightful online session where PTC’s Michael Gummel will walk through best-practices and practical steps for recording purchases that are paid via credit card in Dynamics BC. Whether you’re managing expense flows\, vendor payments\, or reconciling credit-card transactions in your ERP system\, this session will help you streamline the process\, improve accuracy\, and ensure compliance.\n\nThis meeting is part of the monthly National User Group offering from Dynamics Communities for Business Central users and partners. It’s a great opportunity to connect\, learn\, and stay ahead with your ERP operations.\n\nWho should attend:\n\n\nFinance and accounting professionals using Dynamics BC\n\n\nSystem administrators and ERP implementation consultants\n\n\nBusiness leaders seeking better visibility into credit-card purchasing workflows\n\n\nRegistration link: Register for the event here\n\nWe look forward to seeing you there!
URL:https://paradigmtechnologyconsulting.com/event/dyncomm_nov25ug/
LOCATION:PA
CATEGORIES:Webinar
ATTACH;FMTTYPE=image/jpeg:https://paradigmtechnologyconsulting.com/wp-content/uploads/2025/11/DynamicsCommunities_NovNationalUGMeetingNov25.jpg
END:VEVENT
BEGIN:VEVENT
DTSTART;TZID=America/New_York:20251210T110000
DTEND;TZID=America/New_York:20251210T133000
DTSTAMP:20260423T070435
CREATED:20251118T125622Z
LAST-MODIFIED:20251118T125915Z
UID:2844-1765364400-1765373400@paradigmtechnologyconsulting.com
SUMMARY:Dynamics 365 Business Central Year-End Closing Webinar
DESCRIPTION:As 2025 comes to a close\, it’s time to prepare your Microsoft Dynamics system for a smooth and successful year-end close. We’re hosting two separate 2025 Microsoft Dynamics Year-End Closing Webinars—one for Dynamics GP users and one for Dynamics 365 Business Central (BC) users. \nCan’t attend live? Both webinars will be recorded. Simply register for either event\, and you will automatically receive a link to the recording—even if you are unable to join the session on the scheduled date. \nDuring this session\, we’ll cover: \n\nStep-by-step guidance for closing out the year in Dynamics\nCommon pitfalls to avoid during the year-end process\nTips and tools to streamline reconciliation and reporting\nQ&A with our Dynamics specialists\n\nREGISTER TODAY
URL:https://paradigmtechnologyconsulting.com/event/dynamics-365-business-central-year-end-closing-webinar/
LOCATION:Online
CATEGORIES:Webinar
ATTACH;FMTTYPE=image/jpeg:https://paradigmtechnologyconsulting.com/wp-content/uploads/2025/11/2025-Year-End-WebinarBC.jpg
END:VEVENT
BEGIN:VEVENT
DTSTART;TZID=America/New_York:20251211T143000
DTEND;TZID=America/New_York:20251211T163000
DTSTAMP:20260423T070435
CREATED:20251118T125833Z
LAST-MODIFIED:20251118T125833Z
UID:2848-1765463400-1765470600@paradigmtechnologyconsulting.com
SUMMARY:Dynamics GP Year-End Closing Webinar
DESCRIPTION:As 2025 comes to a close\, it’s time to prepare your Microsoft Dynamics system for a smooth and successful year-end close. We’re hosting two separate 2025 Microsoft Dynamics Year-End Closing Webinars—one for Dynamics GP users and one for Dynamics 365 Business Central (BC) users. \nCan’t attend live? Both webinars will be recorded. Simply register for either event\, and you will automatically receive a link to the recording—even if you are unable to join the session on the scheduled date. \nDuring this session\, we’ll cover: \n\nStep-by-step guidance for closing out the year in Dynamics\nCommon pitfalls to avoid during the year-end process\nTips and tools to streamline reconciliation and reporting\nQ&A with our Dynamics specialists\n\nREGISTER TODAY
URL:https://paradigmtechnologyconsulting.com/event/dynamics-gp-year-end-closing-webinar/
LOCATION:Online
CATEGORIES:Webinar
ATTACH;FMTTYPE=image/jpeg:https://paradigmtechnologyconsulting.com/wp-content/uploads/2025/11/2025-Year-End-WebinarGP.jpg
END:VEVENT
BEGIN:VEVENT
DTSTART;TZID=America/New_York:20260331T080000
DTEND;TZID=America/New_York:20260331T170000
DTSTAMP:20260423T070435
CREATED:20260316T170836Z
LAST-MODIFIED:20260316T170836Z
UID:2879-1774944000-1774976400@paradigmtechnologyconsulting.com
SUMMARY:ReNEW JERSEY - Business Summit & Expo
DESCRIPTION:The ReNew Jersey Business Summit & Expo\, which attracts over 1\,000\, will focus on issues impacting employers and the economy in 2026 – and attendees will examine New Jersey’s economic competitiveness moving forward. The Summit will take on extra importance as New Jersey welcomes the new administration of Gov. Mikie Sherrill and Lt. Gov. Dale Caldwell. The two-day event features panel discussions\, keynote speeches\, exhibit opportunities and networking sessions. Visit our booth in the Expo Hall to find out more about our business services.
URL:https://paradigmtechnologyconsulting.com/event/renewjersey/
LOCATION:Harrah’s Atlantic City\, Atlantic City\, NJ\, United States
CATEGORIES:In-Person
ATTACH;FMTTYPE=image/png:https://paradigmtechnologyconsulting.com/wp-content/uploads/2026/03/2026-NJCC-Summit-1200_2.png
END:VEVENT
BEGIN:VEVENT
DTSTART;TZID=America/New_York:20260520T080000
DTEND;TZID=America/New_York:20260520T170000
DTSTAMP:20260423T070435
CREATED:20260420T133707Z
LAST-MODIFIED:20260420T133707Z
UID:2956-1779264000-1779296400@paradigmtechnologyconsulting.com
SUMMARY:DVHIMSS 2026 Spring Symposium – From AI to Access: Transforming Care Delivery
DESCRIPTION:We are excited to be exhibiting at the upcoming DVHIMSS 2026 Spring Symposium\, From AI to Access: Transforming Care Delivery. Wednesday\, May 20\, 2026\, to be held at the College of Physicians of Philadelphia (Philadelphia\, PA).
URL:https://paradigmtechnologyconsulting.com/event/dvhimss-2026-spring-symposium-from-ai-to-access-transforming-care-delivery/
LOCATION:College of Physicians of Philadelpia\, 19 S 22nd St\, Philadelphia\, PA\, 19103\, United States
CATEGORIES:In-Person
ATTACH;FMTTYPE=image/jpeg:https://paradigmtechnologyconsulting.com/wp-content/uploads/2026/04/HIMSS-Event-2026.jpg
END:VEVENT
END:VCALENDAR