BEGIN:VCALENDAR
VERSION:2.0
PRODID:-//Paradigm Technology Consulting - ECPv6.15.11//NONSGML v1.0//EN
CALSCALE:GREGORIAN
METHOD:PUBLISH
X-WR-CALNAME:Paradigm Technology Consulting
X-ORIGINAL-URL:https://paradigmtechnologyconsulting.com
X-WR-CALDESC:Events for Paradigm Technology Consulting
REFRESH-INTERVAL;VALUE=DURATION:PT1H
X-Robots-Tag:noindex
X-PUBLISHED-TTL:PT1H
BEGIN:VTIMEZONE
TZID:America/New_York
BEGIN:DAYLIGHT
TZOFFSETFROM:-0500
TZOFFSETTO:-0400
TZNAME:EDT
DTSTART:20230312T070000
END:DAYLIGHT
BEGIN:STANDARD
TZOFFSETFROM:-0400
TZOFFSETTO:-0500
TZNAME:EST
DTSTART:20231105T060000
END:STANDARD
BEGIN:DAYLIGHT
TZOFFSETFROM:-0500
TZOFFSETTO:-0400
TZNAME:EDT
DTSTART:20240310T070000
END:DAYLIGHT
BEGIN:STANDARD
TZOFFSETFROM:-0400
TZOFFSETTO:-0500
TZNAME:EST
DTSTART:20241103T060000
END:STANDARD
BEGIN:DAYLIGHT
TZOFFSETFROM:-0500
TZOFFSETTO:-0400
TZNAME:EDT
DTSTART:20250309T070000
END:DAYLIGHT
BEGIN:STANDARD
TZOFFSETFROM:-0400
TZOFFSETTO:-0500
TZNAME:EST
DTSTART:20251102T060000
END:STANDARD
END:VTIMEZONE
BEGIN:VEVENT
DTSTART;TZID=America/New_York:20240404T110000
DTEND;TZID=America/New_York:20240404T120000
DTSTAMP:20260424T075248
CREATED:20240315T151650Z
LAST-MODIFIED:20240315T151650Z
UID:2184-1712228400-1712232000@paradigmtechnologyconsulting.com
SUMMARY:Transitioning to Business Central from Dynamics GP: A Comprehensive Guide
DESCRIPTION:Should your organization consider migrating from Microsoft Dynamics GP to Microsoft Dynamics 365 Business Central? This webinar is ideal for those interested in shifting to a cloud-based enterprise resource planning (ERP) system. Whether your plan is to move within the next year\, or you are just looking to see what is available\, join us as we take a look at Business Central’s key features and capabilities. We will also discuss what is a SaaS (Software as a Service) model and how it may benefit your organization.  In addition\, we’ll discuss some of the main differences between BC and GP. \nLearning Objectives: \n\nDescribe what is the SaaS model by MS.\nIdentify the available subscription types for BC.\nUnderstand the core BC functionality available\n\nREGISTER TODAY \nAdditional CPE Program Information\n\nLearning Objectives: By attending this webinar the registered attendee will learn more about the transition to Microsoft Dynamics BC from Microsoft Dynamics GP.\nDelivery method: GROUP LIVE | Live speakers\, panel presentations\, and interactive moderated discussions\nRecommend CPE: CPE is based on a 50-minute hour of the combined conference time rounded down to the ½ hr. Up to 1 hour of CPE may be awarded.\nPrerequisites: This webinar should be attended by accounting and information technology professionals and/or users of Microsoft Dynamics solutions.\nRecommended Field of Study: Information Technology. Credit Hours: 1\nAdvance Preparation: None\nProgram Description: Live speakers and interactive moderated discussions about the Microsoft Dynamics BC and Dynamics GP solutions.\nProgram Level: Overview\nCourse registration requirements: Registration needs to be completed by April 4\, 2024.\nRefund and cancellation policy: Cancel at any time. This event is complimentary\, therefore there are no cancellation fees.\nComplaint resolution policy: Questions or complaints should be directed to Jason Pintinalli at jwpintinalli@ptcsolutions.com for forwarding to the appropriate parties.\n\nISS Solutions Inc.\, dba Paradigm Technology Consulting is registered with the National Association of State Boards of Accountancy (NASBA) as a sponsor of continuing professional education on the National Registry of CPE Sponsors. State boards of accountancy have final authority on the acceptance of individual courses for CPE credit. Complaints regarding registered sponsors may be submitted to the National Registry of CPE Sponsors through its web site: www.nasbaregistry.org
URL:https://paradigmtechnologyconsulting.com/event/transitioning-to-business-central-from-dynamics-gp-a-comprehensive-guide/
LOCATION:PA
CATEGORIES:Webinar
ATTACH;FMTTYPE=image/jpeg:https://paradigmtechnologyconsulting.com/wp-content/uploads/2024/04/Transition-to-BC-from-GP-Graphic.jpg
END:VEVENT
BEGIN:VEVENT
DTSTART;TZID=America/New_York:20240414T080000
DTEND;TZID=America/New_York:20240417T170000
DTSTAMP:20260424T075248
CREATED:20240307T132605Z
LAST-MODIFIED:20240307T132605Z
UID:2156-1713081600-1713373200@paradigmtechnologyconsulting.com
SUMMARY:DIRECTIONS North America
DESCRIPTION:The Directions North America 2024 Conference brings together developers\, implementers\, technical experts\, sales and executive/owner representatives from Dynamics partners\, ISVs\, Service Providers\, and Microsoft across North America and beyond. Learn how to boost your business with the Dynamics 365 Platform. Take advantage of Dynamics-focused tracks and workshops to receive cutting-edge training that will enhance your business.
URL:https://paradigmtechnologyconsulting.com/event/directions_na_2024/
LOCATION:Sheraton San Diego Hotel & Marina\, 1380 Harbor Island Drive\, San Diego\, CA\, 92101\, United States
CATEGORIES:In-Person
ATTACH;FMTTYPE=image/jpeg:https://paradigmtechnologyconsulting.com/wp-content/uploads/2024/03/DirectionsNA_2024.jpg
END:VEVENT
BEGIN:VEVENT
DTSTART;TZID=America/New_York:20240423T130000
DTEND;TZID=America/New_York:20240423T140000
DTSTAMP:20260424T075248
CREATED:20240405T184012Z
LAST-MODIFIED:20240409T113452Z
UID:2195-1713877200-1713880800@paradigmtechnologyconsulting.com
SUMMARY:Empowering Your Business with Accountable Solutions: A Deep Dive into Innovative Reporting and Data Delivery Tools
DESCRIPTION:Join us for an exclusive webinar where we will showcase the innovative products from Accountable Solutions\, designed to enhance your business’s accountability and efficiency. Discover their cutting-edge solutions for Microsoft Dynamics GP featuring: \n\nForms Printer (new and lesser-known features)\nAdvanced Emailing\nData Presentation\nAddress Verification Solutions\n\nNo matter what industry your organization represents\, this webinar will provide valuable insights into maximizing your organizational productivity.\nFor more detailed information on Accountable Solutions’ products\, please visit their website directly at Accountable Software. \nREGISTER TODAY \nAdditional CPE Program Information\n\nLearning Objectives: By attending this webinar the registered attendee will learn more about Accountable Software solutions.\nDelivery method: GROUP LIVE | Live speakers\, panel presentations\, and interactive moderated discussions\nRecommend CPE: CPE is based on a 50-minute hour of the combined conference time. Up to 1 hour of CPE may be awarded.\nPrerequisites: This webinar should be attended by accounting and information technology professionals and/or users of Microsoft Dynamics solutions.\nRecommended Field of Study: Information Technology. Credit Hours: 1\nAdvance Preparation: None\nProgram Description: Live speakers and interactive moderated discussions about Accountable Software solutions.\nProgram Level: Overview\nCourse registration requirements: Registration needs to be completed by April 23\, 2024.\nRefund and cancellation policy: Cancel at any time. This event is complimentary\, therefore there are no cancellation fees.\nComplaint resolution policy: Questions or complaints should be directed to Jason Pintinalli at jwpintinalli@ptcsolutions.com for forwarding to the appropriate parties.\n\nISS Solutions Inc.\, dba Paradigm Technology Consulting is registered with the National Association of State Boards of Accountancy (NASBA) as a sponsor of continuing professional education on the National Registry of CPE Sponsors. State boards of accountancy have final authority on the acceptance of individual courses for CPE credit. Complaints regarding registered sponsors may be submitted to the National Registry of CPE Sponsors through its web site: www.nasbaregistry.org
URL:https://paradigmtechnologyconsulting.com/event/accountableapr2024/
LOCATION:PA
CATEGORIES:Webinar
ATTACH;FMTTYPE=image/jpeg:https://paradigmtechnologyconsulting.com/wp-content/uploads/2024/04/Accountable-Webinar-April-2024.jpg
END:VEVENT
END:VCALENDAR