BEGIN:VCALENDAR
VERSION:2.0
PRODID:-//Paradigm Technology Consulting - ECPv6.15.11//NONSGML v1.0//EN
CALSCALE:GREGORIAN
METHOD:PUBLISH
X-WR-CALNAME:Paradigm Technology Consulting
X-ORIGINAL-URL:https://paradigmtechnologyconsulting.com
X-WR-CALDESC:Events for Paradigm Technology Consulting
REFRESH-INTERVAL;VALUE=DURATION:PT1H
X-Robots-Tag:noindex
X-PUBLISHED-TTL:PT1H
BEGIN:VTIMEZONE
TZID:America/New_York
BEGIN:DAYLIGHT
TZOFFSETFROM:-0500
TZOFFSETTO:-0400
TZNAME:EDT
DTSTART:20230312T070000
END:DAYLIGHT
BEGIN:STANDARD
TZOFFSETFROM:-0400
TZOFFSETTO:-0500
TZNAME:EST
DTSTART:20231105T060000
END:STANDARD
BEGIN:DAYLIGHT
TZOFFSETFROM:-0500
TZOFFSETTO:-0400
TZNAME:EDT
DTSTART:20240310T070000
END:DAYLIGHT
BEGIN:STANDARD
TZOFFSETFROM:-0400
TZOFFSETTO:-0500
TZNAME:EST
DTSTART:20241103T060000
END:STANDARD
BEGIN:DAYLIGHT
TZOFFSETFROM:-0500
TZOFFSETTO:-0400
TZNAME:EDT
DTSTART:20250309T070000
END:DAYLIGHT
BEGIN:STANDARD
TZOFFSETFROM:-0400
TZOFFSETTO:-0500
TZNAME:EST
DTSTART:20251102T060000
END:STANDARD
END:VTIMEZONE
BEGIN:VEVENT
DTSTART;TZID=America/New_York:20240513T080000
DTEND;TZID=America/New_York:20240516T170000
DTSTAMP:20260424T062444
CREATED:20240307T131136Z
LAST-MODIFIED:20240307T131136Z
UID:2152-1715587200-1715878800@paradigmtechnologyconsulting.com
SUMMARY:DynamicsCon LIVE
DESCRIPTION:Join us at DynamicsCon Live in May 2024 for a game-changing session on “Revolutionizing Finance: AP Automation with MS Dynamics GP” by PTC’s Michael Gummel! Don’t miss out on this opportunity to gain valuable knowledge and stay ahead in the MS Dynamics GP world of finance!
URL:https://paradigmtechnologyconsulting.com/event/dynamicscon-live-2024/
LOCATION:Denver Marriott Tech Center\, Denver\, CO\, 4900 S SYRACUSE ST\, Denver\, CO\, 80237\, United States
CATEGORIES:In-Person
ATTACH;FMTTYPE=image/jpeg:https://paradigmtechnologyconsulting.com/wp-content/uploads/2024/03/DynamicsCon-Live-2024.jpg
END:VEVENT
END:VCALENDAR