BEGIN:VCALENDAR
VERSION:2.0
PRODID:-//Paradigm Technology Consulting - ECPv6.15.11//NONSGML v1.0//EN
CALSCALE:GREGORIAN
METHOD:PUBLISH
X-ORIGINAL-URL:https://paradigmtechnologyconsulting.com
X-WR-CALDESC:Events for Paradigm Technology Consulting
REFRESH-INTERVAL;VALUE=DURATION:PT1H
X-Robots-Tag:noindex
X-PUBLISHED-TTL:PT1H
BEGIN:VTIMEZONE
TZID:America/New_York
BEGIN:DAYLIGHT
TZOFFSETFROM:-0500
TZOFFSETTO:-0400
TZNAME:EDT
DTSTART:20230312T070000
END:DAYLIGHT
BEGIN:STANDARD
TZOFFSETFROM:-0400
TZOFFSETTO:-0500
TZNAME:EST
DTSTART:20231105T060000
END:STANDARD
BEGIN:DAYLIGHT
TZOFFSETFROM:-0500
TZOFFSETTO:-0400
TZNAME:EDT
DTSTART:20240310T070000
END:DAYLIGHT
BEGIN:STANDARD
TZOFFSETFROM:-0400
TZOFFSETTO:-0500
TZNAME:EST
DTSTART:20241103T060000
END:STANDARD
BEGIN:DAYLIGHT
TZOFFSETFROM:-0500
TZOFFSETTO:-0400
TZNAME:EDT
DTSTART:20250309T070000
END:DAYLIGHT
BEGIN:STANDARD
TZOFFSETFROM:-0400
TZOFFSETTO:-0500
TZNAME:EST
DTSTART:20251102T060000
END:STANDARD
END:VTIMEZONE
BEGIN:VEVENT
DTSTART;TZID=America/New_York:20240717T110000
DTEND;TZID=America/New_York:20240717T120000
DTSTAMP:20260424T025355
CREATED:20240617T141114Z
LAST-MODIFIED:20240625T141623Z
UID:2226-1721214000-1721217600@paradigmtechnologyconsulting.com
SUMMARY:Securing Your Digital Environment: An Overview of ThreatLocker for Comprehensive Cyber Protection
DESCRIPTION:In today’s rapidly evolving digital landscape\, protecting your organization from cyber threats is more critical than ever. Join us for an overview webinar ThreatLocker\, a powerful endpoint protection solution designed to safeguard your digital assets against malware\, ransomware\, and other cyber threats. \nDuring this session\, a ThreatLocker expert speaker will cover: \n\nIntroduction to ThreatLocker: Understanding the core features and benefits.\nDeployment Strategies: Best practices for implementing ThreatLocker across your organization.\nAdvanced Threat Detection: Utilizing ThreatLocker’s capabilities to detect and respond to sophisticated cyber threats.\nLive Q&A Session: Get your questions answered by ThreatLocker experts.\n\nWhether you’re an IT professional\, security manager\, or business owner\, this webinar will provide you with the knowledge and tools you need to protect your organization with ThreatLocker. Don’t miss this opportunity to enhance your cybersecurity strategy and stay ahead of the threats. \nREGISTER TODAY \nAdditional CPE Program Information\n\nLearning Objectives: By attending this webinar the registered attendee will learn more about ThreatLocker solutions.\nDelivery method: GROUP LIVE | Live speakers\, panel presentations\, and interactive moderated discussions\nRecommend CPE: CPE is based on a 50-minute hour of the combined conference time. Up to 1 hour of CPE may be awarded.\nPrerequisites: This webinar should be attended by accounting and information technology professionals.\nRecommended Field of Study: Information Technology. Credit Hours: 1\nAdvance Preparation: None\nProgram Description: Live speakers and interactive moderated discussions about ThreatLocker solutions.\nProgram Level: Overview\nCourse registration requirements: Registration needs to be completed by July 17\, 2024.\nRefund and cancellation policy: Cancel at any time. This event is complimentary\, therefore there are no cancellation fees.\nComplaint resolution policy: Questions or complaints should be directed to Jason Pintinalli at jwpintinalli@ptcsolutions.com for forwarding to the appropriate parties.\n\nISS Solutions Inc.\, dba Paradigm Technology Consulting is registered with the National Association of State Boards of Accountancy (NASBA) as a sponsor of continuing professional education on the National Registry of CPE Sponsors. State boards of accountancy have final authority on the acceptance of individual courses for CPE credit. Complaints regarding registered sponsors may be submitted to the National Registry of CPE Sponsors through its web site: www.nasbaregistry.org
URL:https://paradigmtechnologyconsulting.com/event/threatlocker202407/
LOCATION:PA
CATEGORIES:Webinar
ATTACH;FMTTYPE=image/jpeg:https://paradigmtechnologyconsulting.com/wp-content/uploads/2024/06/Threatlocker-Webinar-2024.jpg
END:VEVENT
END:VCALENDAR