BEGIN:VCALENDAR
VERSION:2.0
PRODID:-//Paradigm Technology Consulting - ECPv6.15.11//NONSGML v1.0//EN
CALSCALE:GREGORIAN
METHOD:PUBLISH
X-ORIGINAL-URL:https://paradigmtechnologyconsulting.com
X-WR-CALDESC:Events for Paradigm Technology Consulting
REFRESH-INTERVAL;VALUE=DURATION:PT1H
X-Robots-Tag:noindex
X-PUBLISHED-TTL:PT1H
BEGIN:VTIMEZONE
TZID:America/New_York
BEGIN:DAYLIGHT
TZOFFSETFROM:-0500
TZOFFSETTO:-0400
TZNAME:EDT
DTSTART:20230312T070000
END:DAYLIGHT
BEGIN:STANDARD
TZOFFSETFROM:-0400
TZOFFSETTO:-0500
TZNAME:EST
DTSTART:20231105T060000
END:STANDARD
BEGIN:DAYLIGHT
TZOFFSETFROM:-0500
TZOFFSETTO:-0400
TZNAME:EDT
DTSTART:20240310T070000
END:DAYLIGHT
BEGIN:STANDARD
TZOFFSETFROM:-0400
TZOFFSETTO:-0500
TZNAME:EST
DTSTART:20241103T060000
END:STANDARD
BEGIN:DAYLIGHT
TZOFFSETFROM:-0500
TZOFFSETTO:-0400
TZNAME:EDT
DTSTART:20250309T070000
END:DAYLIGHT
BEGIN:STANDARD
TZOFFSETFROM:-0400
TZOFFSETTO:-0500
TZNAME:EST
DTSTART:20251102T060000
END:STANDARD
END:VTIMEZONE
BEGIN:VEVENT
DTSTART;TZID=America/New_York:20240814T130000
DTEND;TZID=America/New_York:20240814T140000
DTSTAMP:20260424T012850
CREATED:20240710T200311Z
LAST-MODIFIED:20240710T200917Z
UID:2244-1723640400-1723644000@paradigmtechnologyconsulting.com
SUMMARY:Join Us at the Summit NA Roadshow
DESCRIPTION:We are excited to invite you to a special session with PTC’s Michael Gummel at the Summit NA Roadshow on August 14\, 2024. Michael will deliver an insightful presentation on “Dynamics GP Navigation List vs SmartList.” \nEvent Details: \n\nDate: August 14\, 2024\nTime: 1:00 P.M.\nLocation: The Westin NY at Times Square\n\nSession Highlight: \n\nTopic: Dynamics GP Navigation List vs SmartList\nSpeaker: Michael Gummel\, PTC\n\nIn this session\, Michael will explore the functionalities\, differences\, and best use cases for Dynamics GP Navigation List and SmartList. Attendees will gain valuable insights into optimizing their use of these tools for enhanced productivity and data management. \nDon’t miss this opportunity to learn from an expert and enhance your Dynamics GP skills. We look forward to seeing you there!. \nREGISTER TODAY \nAdditional CPE Program Information\n\nLearning Objectives: By attending this webinar the registered attendee will learn more about ThreatLocker solutions.\nDelivery method: GROUP LIVE | Live speakers\, panel presentations\, and interactive moderated discussions\nRecommend CPE: CPE is based on a 50-minute hour of the combined conference time. Up to 1 hour of CPE may be awarded.\nPrerequisites: This webinar should be attended by accounting and information technology professionals.\nRecommended Field of Study: Information Technology. Credit Hours: 1\nAdvance Preparation: None\nProgram Description: Live speakers and interactive moderated discussions about ThreatLocker solutions.\nProgram Level: Overview\nCourse registration requirements: Registration needs to be completed by July 17\, 2024.\nRefund and cancellation policy: Cancel at any time. This event is complimentary\, therefore there are no cancellation fees.\nComplaint resolution policy: Questions or complaints should be directed to Jason Pintinalli at jwpintinalli@ptcsolutions.com for forwarding to the appropriate parties.\n\nISS Solutions Inc.\, dba Paradigm Technology Consulting is registered with the National Association of State Boards of Accountancy (NASBA) as a sponsor of continuing professional education on the National Registry of CPE Sponsors. State boards of accountancy have final authority on the acceptance of individual courses for CPE credit. Complaints regarding registered sponsors may be submitted to the National Registry of CPE Sponsors through its web site: www.nasbaregistry.org
URL:https://paradigmtechnologyconsulting.com/event/summitnaroadshow/
LOCATION:Westin New York Times Square\, 270 West 43rd Street\, New York\, NY\, 10036\, United States
ATTACH;FMTTYPE=image/jpeg:https://paradigmtechnologyconsulting.com/wp-content/uploads/2024/07/Gummel_-_Dynamics_GP_Navigation_List_vs_Smart_Lists_713910.jpeg
END:VEVENT
BEGIN:VEVENT
DTSTART;TZID=America/New_York:20240821T110000
DTEND;TZID=America/New_York:20240821T120000
DTSTAMP:20260424T012850
CREATED:20240709T135705Z
LAST-MODIFIED:20240715T113537Z
UID:2241-1724238000-1724241600@paradigmtechnologyconsulting.com
SUMMARY:Enhancing Cybersecurity with Zorus DNS Filtering: Essential Protection for Modern Businesses
DESCRIPTION:In an era where cyber threats constantly evolve\, safeguarding your business’s digital infrastructure is more critical than ever. Join us for an insightful webinar on Zorus DNS Filtering\, a cutting-edge solution designed to enhance your organization’s cybersecurity. \nIn this webinar\, you will learn: \n\nWhat is Zorus DNS Filtering? Gain an in-depth understanding of how Zorus DNS Filtering works and its unique features.\nThe Importance of DNS Filtering: Discover why DNS filtering is a vital component of a robust cybersecurity strategy.\nThreat Mitigation: Learn how Zorus DNS Filtering helps prevent access to malicious sites\, blocks phishing attempts\, and reduces the risk of malware infections.\nImplementation Best Practices: Get practical tips on how to integrate Zorus DNS Filtering into your existing IT infrastructure seamlessly.\n\nWhether you’re an IT professional\, business owner\, or cybersecurity enthusiast\, this webinar will provide you with valuable insights into enhancing your organization’s security posture. Don’t miss out on this opportunity to stay ahead of cyber threats and ensure your business’s digital safety. \nREGISTER TODAY \nAdditional CPE Program Information\n\nLearning Objectives: By attending this webinar the registered attendee will learn more about Zorus solutions.\nDelivery method: GROUP LIVE | Live speakers\, panel presentations\, and interactive moderated discussions\nRecommend CPE: CPE is based on a 50-minute hour of the combined conference time. Up to 1 hour of CPE may be awarded.\nPrerequisites: This webinar should be attended by accounting and information technology professionals.\nRecommended Field of Study: Information Technology. Credit Hours: 1\nAdvance Preparation: None\nProgram Description: Live speakers and interactive moderated discussions about Zorus solutions.\nProgram Level: Overview\nCourse registration requirements: Registration needs to be completed by July 17\, 2024.\nRefund and cancellation policy: Cancel at any time. This event is complimentary\, therefore there are no cancellation fees.\nComplaint resolution policy: Questions or complaints should be directed to Jason Pintinalli at jwpintinalli@ptcsolutions.com for forwarding to the appropriate parties.\n\nISS Solutions Inc.\, dba Paradigm Technology Consulting is registered with the National Association of State Boards of Accountancy (NASBA) as a sponsor of continuing professional education on the National Registry of CPE Sponsors. State boards of accountancy have final authority on the acceptance of individual courses for CPE credit. Complaints regarding registered sponsors may be submitted to the National Registry of CPE Sponsors through its web site: www.nasbaregistry.org
URL:https://paradigmtechnologyconsulting.com/event/zorus202408/
LOCATION:PA
CATEGORIES:Webinar
ATTACH;FMTTYPE=image/jpeg:https://paradigmtechnologyconsulting.com/wp-content/uploads/2024/07/Zorus-Webinar-Aug-2024.jpg
END:VEVENT
END:VCALENDAR