BEGIN:VCALENDAR
VERSION:2.0
PRODID:-//Paradigm Technology Consulting - ECPv6.15.11//NONSGML v1.0//EN
CALSCALE:GREGORIAN
METHOD:PUBLISH
X-WR-CALNAME:Paradigm Technology Consulting
X-ORIGINAL-URL:https://paradigmtechnologyconsulting.com
X-WR-CALDESC:Events for Paradigm Technology Consulting
REFRESH-INTERVAL;VALUE=DURATION:PT1H
X-Robots-Tag:noindex
X-PUBLISHED-TTL:PT1H
BEGIN:VTIMEZONE
TZID:America/New_York
BEGIN:DAYLIGHT
TZOFFSETFROM:-0500
TZOFFSETTO:-0400
TZNAME:EDT
DTSTART:20230312T070000
END:DAYLIGHT
BEGIN:STANDARD
TZOFFSETFROM:-0400
TZOFFSETTO:-0500
TZNAME:EST
DTSTART:20231105T060000
END:STANDARD
BEGIN:DAYLIGHT
TZOFFSETFROM:-0500
TZOFFSETTO:-0400
TZNAME:EDT
DTSTART:20240310T070000
END:DAYLIGHT
BEGIN:STANDARD
TZOFFSETFROM:-0400
TZOFFSETTO:-0500
TZNAME:EST
DTSTART:20241103T060000
END:STANDARD
BEGIN:DAYLIGHT
TZOFFSETFROM:-0500
TZOFFSETTO:-0400
TZNAME:EDT
DTSTART:20250309T070000
END:DAYLIGHT
BEGIN:STANDARD
TZOFFSETFROM:-0400
TZOFFSETTO:-0500
TZNAME:EST
DTSTART:20251102T060000
END:STANDARD
END:VTIMEZONE
BEGIN:VEVENT
DTSTART;TZID=America/New_York:20240918T110000
DTEND;TZID=America/New_York:20240918T120000
DTSTAMP:20260423T235420
CREATED:20240719T124138Z
LAST-MODIFIED:20240723T170353Z
UID:2256-1726657200-1726660800@paradigmtechnologyconsulting.com
SUMMARY:Webinar: Professional Advantage's Collections Management & Nodus Paylink for Microsoft Dynamics GP!
DESCRIPTION:We are excited to invite you to an exclusive one-hour webinar providing in-depth insights into Professional Advantage’s Collections Management & Nodus Paylink for Microsoft Dynamics GP. \nWebinar Highlights: \n\nOverview of Collections Management: Learn how this powerful tool can help you streamline your accounts receivable process\, reduce overdue invoices\, and improve cash flow.\nIntroduction to Nodus Paylink: Discover how Nodus Paylink simplifies the payment process by allowing customers to pay invoices online securely and efficiently.\nIntegration with Microsoft Dynamics GP: Understand how these solutions seamlessly integrate with your existing Microsoft Dynamics GP system to enhance your financial operations.\nLive Demonstration: See these tools in action with a live demonstration\, showcasing their features and benefits.\nQ&A Session: Get your questions answered by our experts during the interactive Q&A session.\n\nWho Should Attend: \n\nFinancial Managers\nAccounts Receivable Professionals\nIT Professionals\nBusiness Owners\nMicrosoft Dynamics GP Users\n\nDon’t miss this opportunity to gain valuable insights and enhance your financial management processes. \nREGISTER TODAY \nAdditional CPE Program Information\n\nLearning Objectives: By attending this webinar the registered attendee will learn more about Professional Advantage’s Collection Management & Nodus Paylink solutions.\nDelivery method: GROUP LIVE | Live speakers\, panel presentations\, and interactive moderated discussions\nRecommend CPE: CPE is based on a 50-minute hour of the combined conference time. Up to 1 hour of CPE may be awarded.\nPrerequisites: This webinar should be attended by accounting and information technology professionals.\nRecommended Field of Study: Information Technology. Credit Hours: 1\nAdvance Preparation: None\nProgram Description: Live speakers and interactive moderated discussions about Professional Advantage’s Collection Management & Nodus Paylink solutions.\nProgram Level: Overview\nCourse registration requirements: Registration needs to be completed by Sept 18\, 2024.\nRefund and cancellation policy: Cancel at any time. This event is complimentary\, therefore there are no cancellation fees.\nComplaint resolution policy: Questions or complaints should be directed to Jason Pintinalli at jwpintinalli@ptcsolutions.com for forwarding to the appropriate parties.\n\nISS Solutions Inc.\, dba Paradigm Technology Consulting is registered with the National Association of State Boards of Accountancy (NASBA) as a sponsor of continuing professional education on the National Registry of CPE Sponsors. State boards of accountancy have final authority on the acceptance of individual courses for CPE credit. Complaints regarding registered sponsors may be submitted to the National Registry of CPE Sponsors through its web site: www.nasbaregistry.org
URL:https://paradigmtechnologyconsulting.com/event/profad-240918/
LOCATION:PA
ATTACH;FMTTYPE=image/jpeg:https://paradigmtechnologyconsulting.com/wp-content/uploads/2024/07/ProfessionalAdvantageWebinarEmail.jpg
END:VEVENT
BEGIN:VEVENT
DTSTART;TZID=America/New_York:20240925T080000
DTEND;TZID=America/New_York:20240925T170000
DTSTAMP:20260423T235420
CREATED:20240909T154645Z
LAST-MODIFIED:20240909T154645Z
UID:2289-1727251200-1727283600@paradigmtechnologyconsulting.com
SUMMARY:CommunityDays SummitNA Roadshow - Atlanta
DESCRIPTION:Michael Gummel will present “Dynamics GP Navigation List vs Smart Lists” at the CommunityDays SummitNA Roadshow in Atlanta on September 25. He will explore the differences between Navigation Lists and Smart Lists in Dynamics GP\, offering insights to help users optimize their data management and reporting processes.
URL:https://paradigmtechnologyconsulting.com/event/communitydaysatlanta/
LOCATION:Atlanta\, GA\, 200 17th St. NW\, Atlanta\, GA\, 30363\, United States
CATEGORIES:In-Person
ATTACH;FMTTYPE=image/jpeg:https://paradigmtechnologyconsulting.com/wp-content/uploads/2024/09/CommunityDays2024.jpg
END:VEVENT
END:VCALENDAR