BEGIN:VCALENDAR
VERSION:2.0
PRODID:-//Paradigm Technology Consulting - ECPv6.15.11//NONSGML v1.0//EN
CALSCALE:GREGORIAN
METHOD:PUBLISH
X-WR-CALNAME:Paradigm Technology Consulting
X-ORIGINAL-URL:https://paradigmtechnologyconsulting.com
X-WR-CALDESC:Events for Paradigm Technology Consulting
REFRESH-INTERVAL;VALUE=DURATION:PT1H
X-Robots-Tag:noindex
X-PUBLISHED-TTL:PT1H
BEGIN:VTIMEZONE
TZID:America/New_York
BEGIN:DAYLIGHT
TZOFFSETFROM:-0500
TZOFFSETTO:-0400
TZNAME:EDT
DTSTART:20240310T070000
END:DAYLIGHT
BEGIN:STANDARD
TZOFFSETFROM:-0400
TZOFFSETTO:-0500
TZNAME:EST
DTSTART:20241103T060000
END:STANDARD
BEGIN:DAYLIGHT
TZOFFSETFROM:-0500
TZOFFSETTO:-0400
TZNAME:EDT
DTSTART:20250309T070000
END:DAYLIGHT
BEGIN:STANDARD
TZOFFSETFROM:-0400
TZOFFSETTO:-0500
TZNAME:EST
DTSTART:20251102T060000
END:STANDARD
BEGIN:DAYLIGHT
TZOFFSETFROM:-0500
TZOFFSETTO:-0400
TZNAME:EDT
DTSTART:20260308T070000
END:DAYLIGHT
BEGIN:STANDARD
TZOFFSETFROM:-0400
TZOFFSETTO:-0500
TZNAME:EST
DTSTART:20261101T060000
END:STANDARD
END:VTIMEZONE
BEGIN:VEVENT
DTSTART;TZID=America/New_York:20250220T113000
DTEND;TZID=America/New_York:20250220T123000
DTSTAMP:20260423T162333
CREATED:20250205T142006Z
LAST-MODIFIED:20250205T142435Z
UID:2426-1740051000-1740054600@paradigmtechnologyconsulting.com
SUMMARY:Streamline Your AP Process: Automate Accounts Payable with Fidesic for Microsoft Dynamics GP & BC
DESCRIPTION:Join us for an exclusive webinar on Fidesic’s AP Automation solution\, designed to simplify and optimize your accounts payable process for Microsoft Dynamics GP & Business Central. Discover how automation can help you save time\, reduce errors\, and improve financial visibility. \nEarn valuable CPE credits while gaining expert insights—register now for our exclusive webinar! \nWhat You’ll Learn: \n\nHow Fidesic AP enhances Microsoft Dynamics GP & BC\nAutomating invoice capture\, approval workflows\, and payments\nReducing manual data entry and increasing efficiency\nImproving audit trails and compliance with digital records\nLive demo of Fidesic AP in action\n\nQ&A session with AP automation experts \nWho Should Attend? \n\nCFOs\, Controllers\, and Finance Managers\nAP & Accounting Teams\nIT & ERP Administrators managing Microsoft Dynamics GP & BC\n\nREGISTER TODAY \nAdditional CPE Program Information\n\nLearning Objectives: By attending this webinar the registered attendee will learn more about Fidesic for Microsoft Dynamics ERP solutions.\nDelivery method: GROUP INTERNET BASED | Live speakers\, panel presentations\, and interactive moderated discussions\nRecommend CPE: CPE is based on a 50-minute hour of the combined conference time. Up to 1 hour of CPE may be awarded.\nPrerequisites: This webinar should be attended by accounting and information technology professionals.\nRecommended Field of Study: Information Technology. Credit Hours: 1\nAdvance Preparation: None\nProgram Description: Live speakers and interactive moderated discussions about Fidesic for Microsoft Dynamics ERP solutions.\nProgram Level: Overview\nCourse registration requirements: Registration needs to be completed by February 20\, 2025.\nRefund and cancellation policy: Cancel at any time. This event is complimentary\, therefore there are no cancellation fees.\nComplaint resolution policy: Questions or complaints should be directed to Jason Pintinalli at jwpintinalli@ptcsolutions.com for forwarding to the appropriate parties.\n\nISS Solutions Inc.\, dba Paradigm Technology Consulting is registered with the National Association of State Boards of Accountancy (NASBA) as a sponsor of continuing professional education on the National Registry of CPE Sponsors. State boards of accountancy have final authority on the acceptance of individual courses for CPE credit. Complaints regarding registered sponsors may be submitted to the National Registry of CPE Sponsors through its web site: www.nasbaregistry.org
URL:https://paradigmtechnologyconsulting.com/event/fidesicap202502/
LOCATION:PA
CATEGORIES:Webinar
ATTACH;FMTTYPE=image/jpeg:https://paradigmtechnologyconsulting.com/wp-content/uploads/2025/02/FidesicWebinar2025.jpg
END:VEVENT
END:VCALENDAR