BEGIN:VCALENDAR
VERSION:2.0
PRODID:-//Paradigm Technology Consulting - ECPv6.15.11//NONSGML v1.0//EN
CALSCALE:GREGORIAN
METHOD:PUBLISH
X-WR-CALNAME:Paradigm Technology Consulting
X-ORIGINAL-URL:https://paradigmtechnologyconsulting.com
X-WR-CALDESC:Events for Paradigm Technology Consulting
REFRESH-INTERVAL;VALUE=DURATION:PT1H
X-Robots-Tag:noindex
X-PUBLISHED-TTL:PT1H
BEGIN:VTIMEZONE
TZID:America/New_York
BEGIN:DAYLIGHT
TZOFFSETFROM:-0500
TZOFFSETTO:-0400
TZNAME:EDT
DTSTART:20240310T070000
END:DAYLIGHT
BEGIN:STANDARD
TZOFFSETFROM:-0400
TZOFFSETTO:-0500
TZNAME:EST
DTSTART:20241103T060000
END:STANDARD
BEGIN:DAYLIGHT
TZOFFSETFROM:-0500
TZOFFSETTO:-0400
TZNAME:EDT
DTSTART:20250309T070000
END:DAYLIGHT
BEGIN:STANDARD
TZOFFSETFROM:-0400
TZOFFSETTO:-0500
TZNAME:EST
DTSTART:20251102T060000
END:STANDARD
BEGIN:DAYLIGHT
TZOFFSETFROM:-0500
TZOFFSETTO:-0400
TZNAME:EDT
DTSTART:20260308T070000
END:DAYLIGHT
BEGIN:STANDARD
TZOFFSETFROM:-0400
TZOFFSETTO:-0500
TZNAME:EST
DTSTART:20261101T060000
END:STANDARD
END:VTIMEZONE
BEGIN:VEVENT
DTSTART;TZID=America/New_York:20250318T110000
DTEND;TZID=America/New_York:20250318T120000
DTSTAMP:20260423T145040
CREATED:20250221T190844Z
LAST-MODIFIED:20250221T191000Z
UID:2450-1742295600-1742299200@paradigmtechnologyconsulting.com
SUMMARY:Simplify Your Banking: Unlock the Power of Advanced Bank Reconciliation for Microsoft Dynamics ERP
DESCRIPTION:Tired of the inefficiencies and errors of manual bank reconciliations? Join us for an exclusive webinar where we’ll demonstrate how Nolan Business Solutions’ Advanced Bank Reconciliation (ABR) for Microsoft Dynamics ERP can revolutionize your financial workflows. This robust solution not only streamlines the reconciliation process but also minimizes manual effort and enhances the accuracy of your financial records. \nIn this session\, you’ll learn how to: \n\nAutomate transaction matching for faster month-end close: ABR supports advanced auto-matching rules\, grouping rules\, and automatic posting of recurring transactions\, saving you time and effort.\nBoost accuracy with intelligent reconciliation tools: ABR’s flexible\, user-defined matching and grouping rules ensure precise results\, drastically reducing manual errors.\nGain comprehensive financial visibility with real-time reporting: ABR’s out-of-the-box bank reconciliation reports provide deep insights\, empowering you to make informed financial decisions with confidence.\nReduce manual data entry and errors: With ABR automating key tasks\, you’ll cut down on human error and enhance workflow efficiency.\nIntegrate your bank data directly with Dynamics GP/BC – With Nolan Bank Feeds\, enjoy a seamless\, automated bank data feed that eliminates the need for manual imports.\n\nSee firsthand how Advanced Bank Reconciliation can streamline your financial operations and free up valuable time for your team. Don’t miss this opportunity to explore the solution in action and get expert answers to your questions! \nREGISTER TODAY \nAdditional CPE Program Information\n\nLearning Objectives: By attending this webinar the registered attendee will learn more about Nolan Business Solutions.\nDelivery method: GROUP INTERNET BASED | Live speakers\, panel presentations\, and interactive moderated discussions\nRecommend CPE: CPE is based on a 50-minute hour of the combined conference time. Up to 1 hour of CPE may be awarded.\nPrerequisites: This webinar should be attended by accounting and information technology professionals.\nRecommended Field of Study: Information Technology. Credit Hours: 1\nAdvance Preparation: None\nProgram Description: Live speakers and interactive moderated discussions about Nolan Business Solutions for Microsoft Dynamics ERP solutions.\nProgram Level: Overview\nCourse registration requirements: Registration needs to be completed by March 18\, 2025.\nRefund and cancellation policy: Cancel at any time. This event is complimentary\, therefore there are no cancellation fees.\nComplaint resolution policy: Questions or complaints should be directed to Jason Pintinalli at jwpintinalli@ptcsolutions.com for forwarding to the appropriate parties.\n\nISS Solutions Inc.\, dba Paradigm Technology Consulting is registered with the National Association of State Boards of Accountancy (NASBA) as a sponsor of continuing professional education on the National Registry of CPE Sponsors. State boards of accountancy have final authority on the acceptance of individual courses for CPE credit. Complaints regarding registered sponsors may be submitted to the National Registry of CPE Sponsors through its web site: www.nasbaregistry.org
URL:https://paradigmtechnologyconsulting.com/event/nolan2025/
LOCATION:PA
ATTACH;FMTTYPE=image/jpeg:https://paradigmtechnologyconsulting.com/wp-content/uploads/2025/02/Nolan-Webinar-2025.jpg
END:VEVENT
END:VCALENDAR