BEGIN:VCALENDAR
VERSION:2.0
PRODID:-//Paradigm Technology Consulting - ECPv6.15.11//NONSGML v1.0//EN
CALSCALE:GREGORIAN
METHOD:PUBLISH
X-ORIGINAL-URL:https://paradigmtechnologyconsulting.com
X-WR-CALDESC:Events for Paradigm Technology Consulting
REFRESH-INTERVAL;VALUE=DURATION:PT1H
X-Robots-Tag:noindex
X-PUBLISHED-TTL:PT1H
BEGIN:VTIMEZONE
TZID:America/New_York
BEGIN:DAYLIGHT
TZOFFSETFROM:-0500
TZOFFSETTO:-0400
TZNAME:EDT
DTSTART:20240310T070000
END:DAYLIGHT
BEGIN:STANDARD
TZOFFSETFROM:-0400
TZOFFSETTO:-0500
TZNAME:EST
DTSTART:20241103T060000
END:STANDARD
BEGIN:DAYLIGHT
TZOFFSETFROM:-0500
TZOFFSETTO:-0400
TZNAME:EDT
DTSTART:20250309T070000
END:DAYLIGHT
BEGIN:STANDARD
TZOFFSETFROM:-0400
TZOFFSETTO:-0500
TZNAME:EST
DTSTART:20251102T060000
END:STANDARD
BEGIN:DAYLIGHT
TZOFFSETFROM:-0500
TZOFFSETTO:-0400
TZNAME:EDT
DTSTART:20260308T070000
END:DAYLIGHT
BEGIN:STANDARD
TZOFFSETFROM:-0400
TZOFFSETTO:-0500
TZNAME:EST
DTSTART:20261101T060000
END:STANDARD
END:VTIMEZONE
BEGIN:VEVENT
DTSTART;TZID=America/New_York:20250416T143000
DTEND;TZID=America/New_York:20250416T153000
DTSTAMP:20260423T131856
CREATED:20250319T175556Z
LAST-MODIFIED:20250319T175556Z
UID:2483-1744813800-1744817400@paradigmtechnologyconsulting.com
SUMMARY:Community Summit NA Roadshow - Washington\, DC
DESCRIPTION:Session: BC Sales – Let Us Count the Ways – Wed April 16\, 2025 at 2:20 pm \nJoin Michael Gummel as he explores the many ways to enter sales transactions in Dynamics 365 Business Central. From recurring sales and item selection to seamless integration with Microsoft Outlook and more\, this session will provide valuable insights into optimizing your sales entry processes. Whether you’re looking to streamline workflows or discover new features\, this session is packed with practical takeaways to enhance your BC experience.
URL:https://paradigmtechnologyconsulting.com/event/summinna_dc2025/
LOCATION:1300 Wilson Blvd Arlington\, VA 22209\, 1300 Wilson Blvd\, Arlington\, VA\, 22209\, United States
CATEGORIES:In-Person
ATTACH;FMTTYPE=image/jpeg:https://paradigmtechnologyconsulting.com/wp-content/uploads/2025/03/Gummel_-_BC_Sales_-_Let_us_count_the_ways_856702.jpeg
END:VEVENT
BEGIN:VEVENT
DTSTART;TZID=America/New_York:20250429T110000
DTEND;TZID=America/New_York:20250429T120000
DTSTAMP:20260423T131856
CREATED:20250407T183214Z
LAST-MODIFIED:20250410T132545Z
UID:2545-1745924400-1745928000@paradigmtechnologyconsulting.com
SUMMARY:Simplify Budgeting with Dynamic Budgets: Fast\, Easy\, and Collaborative
DESCRIPTION:Struggling with complex\, time-consuming budgeting processes? Join us for an exclusive webinar on Dynamic Budgets for Microsoft Dynamics ERP\, the intuitive\, user-friendly budgeting solution designed for organizations that embrace zero-based budgeting. \nWith Dynamic Budgets\, non-technical\, non-financial department heads can easily enter and manage their budgets—empowering them to take ownership of their numbers without the need for extensive training or spreadsheet headaches. \nIn this session\, you’ll discover: \n\nHow Dynamic Budgets streamlines and accelerates the budgeting process\nA real-time demo showcasing the platform’s ease of use\nKey benefits for finance teams and department heads\nHow to improve collaboration and accuracy in budget planning\n\nDon’t miss this opportunity to transform your budgeting experience. \nREGISTER TODAY \nAdditional CPE Program Information\n\nLearning Objectives: By attending this webinar the registered attendee will learn more about Dynamic Budgets.\nDelivery method: GROUP INTERNET BASED | Live speakers\, panel presentations\, and interactive moderated discussions\nRecommend CPE: CPE is based on a 50-minute hour of the combined conference time. Up to 1 hour of CPE may be awarded.\nPrerequisites: This webinar should be attended by accounting and information technology professionals.\nRecommended Field of Study: Information Technology. Credit Hours: 1\nAdvance Preparation: None\nProgram Description: Live speakers and interactive moderated discussions about Dynamic Budgets for Microsoft Dynamics ERP solutions.\nProgram Level: Overview\nCourse registration requirements: Registration needs to be completed by April 29\, 2025.\nRefund and cancellation policy: Cancel at any time. This event is complimentary\, therefore there are no cancellation fees.\nComplaint resolution policy: Questions or complaints should be directed to Jason Pintinalli at jwpintinalli@ptcsolutions.com for forwarding to the appropriate parties.\n\nISS Solutions Inc.\, dba Paradigm Technology Consulting is registered with the National Association of State Boards of Accountancy (NASBA) as a sponsor of continuing professional education on the National Registry of CPE Sponsors. State boards of accountancy have final authority on the acceptance of individual courses for CPE credit. Complaints regarding registered sponsors may be submitted to the National Registry of CPE Sponsors through its web site: www.nasbaregistry.org
URL:https://paradigmtechnologyconsulting.com/event/simplify-budgeting-with-dynamic-budgets-fast-easy-and-collaborative/
LOCATION:PA
ATTACH;FMTTYPE=image/jpeg:https://paradigmtechnologyconsulting.com/wp-content/uploads/2025/04/DynamicBudgetsWebinar2025.jpg
END:VEVENT
END:VCALENDAR