BEGIN:VCALENDAR
VERSION:2.0
PRODID:-//Paradigm Technology Consulting - ECPv6.15.11//NONSGML v1.0//EN
CALSCALE:GREGORIAN
METHOD:PUBLISH
X-ORIGINAL-URL:https://paradigmtechnologyconsulting.com
X-WR-CALDESC:Events for Paradigm Technology Consulting
REFRESH-INTERVAL;VALUE=DURATION:PT1H
X-Robots-Tag:noindex
X-PUBLISHED-TTL:PT1H
BEGIN:VTIMEZONE
TZID:America/New_York
BEGIN:DAYLIGHT
TZOFFSETFROM:-0500
TZOFFSETTO:-0400
TZNAME:EDT
DTSTART:20240310T070000
END:DAYLIGHT
BEGIN:STANDARD
TZOFFSETFROM:-0400
TZOFFSETTO:-0500
TZNAME:EST
DTSTART:20241103T060000
END:STANDARD
BEGIN:DAYLIGHT
TZOFFSETFROM:-0500
TZOFFSETTO:-0400
TZNAME:EDT
DTSTART:20250309T070000
END:DAYLIGHT
BEGIN:STANDARD
TZOFFSETFROM:-0400
TZOFFSETTO:-0500
TZNAME:EST
DTSTART:20251102T060000
END:STANDARD
BEGIN:DAYLIGHT
TZOFFSETFROM:-0500
TZOFFSETTO:-0400
TZNAME:EDT
DTSTART:20260308T070000
END:DAYLIGHT
BEGIN:STANDARD
TZOFFSETFROM:-0400
TZOFFSETTO:-0500
TZNAME:EST
DTSTART:20261101T060000
END:STANDARD
END:VTIMEZONE
BEGIN:VEVENT
DTSTART;TZID=America/New_York:20250625T110000
DTEND;TZID=America/New_York:20250625T120000
DTSTAMP:20260423T102106
CREATED:20250605T161618Z
LAST-MODIFIED:20250605T161618Z
UID:2682-1750849200-1750852800@paradigmtechnologyconsulting.com
SUMMARY:Smarter Purchasing Starts Here: Streamline Procurement in Dynamics GP & Business Central
DESCRIPTION:We are excited to invite you to our upcoming webinar “Smarter Purchasing Starts Here: Streamline Procurement in Dynamics GP & Business Central.” This is a fantastic opportunity to gain valuable insights into maximizing the potential of your Microsoft Dynamics ERP software for your business. \nEarn CPE Credits: Receive 1 CPE Credit for this informative webinar \nWebinar Info: \nJoin PTC and ReQlogic for a practical look at how to bring efficiency\, visibility\, and control to your procurement process—whether you’re using Microsoft Dynamics GP or Dynamics 365 Business Central. \nIn this hour-long session\, you’ll see how ReQlogic eliminates manual bottlenecks\, protects against budget overruns\, and enhances purchasing workflows with advanced approvals\, seamless PO generation\, and invoice matching—all without the need for additional ERP licenses. \n\nFully integrated with Dynamics GP and Dynamics 365 Business Central\n\n\nFast to deploy\, easy to use\, and highly configurable\n\n\nAccess mobile approval capabilities anytime\, anywhere\n\nWe’ll split the session into two parts: \n\nFirst half: High-level overview for GP users\n\n\nSecond half: Tailored walkthrough of Business Central integration\n\nRegister today to add the webinar to your calendar or to get access to a recording that you can watch anytime! Attendees are eligible for CPE credit and will walk away with actionable ways to streamline procurement and reduce risk—right within their existing ERP.
URL:https://paradigmtechnologyconsulting.com/event/reqlogic2025/
LOCATION:PA
CATEGORIES:Webinar
ATTACH;FMTTYPE=image/jpeg:https://paradigmtechnologyconsulting.com/wp-content/uploads/2025/06/ReQlogic-Webinar-2025.jpg
END:VEVENT
BEGIN:VEVENT
DTSTART;VALUE=DATE:20250626
DTEND;VALUE=DATE:20250627
DTSTAMP:20260423T102106
CREATED:20250520T134417Z
LAST-MODIFIED:20250520T134417Z
UID:2667-1750896000-1750982399@paradigmtechnologyconsulting.com
SUMMARY:Community Summit NA Roadshow – Philadelphia\, PA
DESCRIPTION:Join PTC’s Michael Gummel at the Community Summit NA Roadshow in Malvern\, PA! \nDate: June 26Location: Malvern\, PennsylvaniaSession: “BC Sales – Let Us Count the Ways” \nPTC’s own Michael Gummel will be presenting at the Community Summit NA Roadshow\, a focused\, local experience inspired by the largest independent event for Microsoft Business Applications. This one-day event is a powerful opportunity for hands-on learning\, local networking\, and knowledge sharing tailored to users of Dynamics 365 Finance & Supply Chain (F&O)\, Business Central\, Dynamics 365 CE\, and the Power Platform. \nDon’t miss Michael’s session as he explores the many ways to drive sales with Business Central — whether you’re new to BC or looking to optimize your current setup.
URL:https://paradigmtechnologyconsulting.com/event/community-summit-na-roadshow-philadelphia-pa/
LOCATION:Malvern\, Pennsylvnia\, 45 Liberty Boulevard\, Suite 210\, Malvern\, PA\, 19355\, United States
CATEGORIES:In-Person
ATTACH;FMTTYPE=image/png:https://paradigmtechnologyconsulting.com/wp-content/uploads/2025/05/Philadelphia-Roadshow-Social-Image.png
END:VEVENT
END:VCALENDAR